BEGIN:VCALENDAR
VERSION:2.0
PRODID:spatie/icalendar-generator
BEGIN:VTIMEZONE
TZID:UTC
BEGIN:STANDARD
DTSTART:20250303T130000
TZOFFSETFROM:+0000
TZOFFSETTO:+0000
END:STANDARD
END:VTIMEZONE
BEGIN:VEVENT
UID:5b89a2c6-2e75-4bba-83fb-f825eb0d9bfd--0
DTSTAMP:20260404T111026Z
SUMMARY:GR-05: Praktische oefeningen voor de rundveepracticus 
LOCATION:Faculteit Diergeneeskunde\, Auditorium D\, Merelbeke (ingang 19)
ORGANIZER;CN=IPV Diergeneeskunde:MAILTO:acvetmed@ugent.be
DTSTART:20251128T130000Z
DTEND:20251128T163000Z
END:VEVENT
END:VCALENDAR