BEGIN:VCALENDAR
VERSION:2.0
PRODID:spatie/icalendar-generator
BEGIN:VTIMEZONE
TZID:UTC
BEGIN:STANDARD
DTSTART:20230113T113000
TZOFFSETFROM:+0000
TZOFFSETTO:+0000
END:STANDARD
END:VTIMEZONE
BEGIN:VEVENT
UID:5fdb440f-5c0f-436c-bad2-fcf8eb4d40de--0
DTSTAMP:20260404T120717Z
SUMMARY:K-01 / KA-01 De laatste afspraak: euthanasie en afscheid van het hu
 isdier
LOCATION:
ORGANIZER;CN=IPV Diergeneeskunde:MAILTO:acvetmed@ugent.be
DTSTART:20231010T113000Z
DTEND:20231010T150000Z
END:VEVENT
END:VCALENDAR