BEGIN:VCALENDAR
VERSION:2.0
PRODID:spatie/icalendar-generator
BEGIN:VTIMEZONE
TZID:UTC
BEGIN:STANDARD
DTSTART:20200119T120000
TZOFFSETFROM:+0000
TZOFFSETTO:+0000
END:STANDARD
END:VTIMEZONE
BEGIN:VEVENT
UID:ab6384cf-ac47-4d64-ab66-39e5e1093773--0
DTSTAMP:20260404T102544Z
SUMMARY:PM-03: WEBINAR “Uw dierenartsenpraktijk als servicecenter: ja of 
 nee?”
LOCATION:
ORGANIZER;CN=IPV Diergeneeskunde:MAILTO:acvetmed@ugent.be
DTSTART:20201015T120000Z
DTEND:20201015T130000Z
END:VEVENT
END:VCALENDAR